BEGIN:VCALENDAR
VERSION:2.0
PRODID:-//DiBoJockgrim.de - ECPv6.15.20//NONSGML v1.0//EN
CALSCALE:GREGORIAN
METHOD:PUBLISH
X-WR-CALNAME:DiBoJockgrim.de
X-ORIGINAL-URL:https://dibojockgrim.de
X-WR-CALDESC:Veranstaltungen für DiBoJockgrim.de
REFRESH-INTERVAL;VALUE=DURATION:PT1H
X-Robots-Tag:noindex
X-PUBLISHED-TTL:PT1H
BEGIN:VTIMEZONE
TZID:Europe/Berlin
BEGIN:DAYLIGHT
TZOFFSETFROM:+0100
TZOFFSETTO:+0200
TZNAME:CEST
DTSTART:20250330T010000
END:DAYLIGHT
BEGIN:STANDARD
TZOFFSETFROM:+0200
TZOFFSETTO:+0100
TZNAME:CET
DTSTART:20251026T010000
END:STANDARD
BEGIN:DAYLIGHT
TZOFFSETFROM:+0100
TZOFFSETTO:+0200
TZNAME:CEST
DTSTART:20260329T010000
END:DAYLIGHT
BEGIN:STANDARD
TZOFFSETFROM:+0200
TZOFFSETTO:+0100
TZNAME:CET
DTSTART:20261025T010000
END:STANDARD
BEGIN:DAYLIGHT
TZOFFSETFROM:+0100
TZOFFSETTO:+0200
TZNAME:CEST
DTSTART:20270328T010000
END:DAYLIGHT
BEGIN:STANDARD
TZOFFSETFROM:+0200
TZOFFSETTO:+0100
TZNAME:CET
DTSTART:20271031T010000
END:STANDARD
END:VTIMEZONE
BEGIN:VEVENT
DTSTART;TZID=Europe/Berlin:20260204T160000
DTEND;TZID=Europe/Berlin:20260204T180000
DTSTAMP:20260423T203402
CREATED:20260119T225907Z
LAST-MODIFIED:20260119T225907Z
UID:998-1770220800-1770228000@dibojockgrim.de
SUMMARY:Offene Sprechstunde 04.02.26
DESCRIPTION:Wir\, die Digital-Botschafterinnen und -Botschafter Jockgrim\, sind bereits seit über 2 Jahren erfolgreich ehrenamtlich aktiv und helfen älteren Menschen rund um die VG Jockgrim im Umgang mit Smartphone\, Laptop & PC – gerade bei zunehmender Digitalisierung des Alltagslebens. Wir möchten Berührungsängste im Umgang mit der digitalen Welt abbauen und gleichzeitig für mögliche Risiken sensibilisieren. In unseren Sprechstunden haben Seniorinnen und Senioren die Möglichkeit\, gemeinsam Neues auszuprobieren\, zu üben & auch voneinander zu lernen.
URL:https://dibojockgrim.de/kalender/offene-sprechstunde-04-02-26/
LOCATION:VHS Jockgrim\, Untere Buchstraße 20\, Jockgrim\, Rheinland-Pfalz\, 76751
CATEGORIES:Offene Sprechstunde
ATTACH;FMTTYPE=image/webp:https://dibojockgrim.de/wp-content/uploads/2024/08/VHS_Jockgrim.webp
ORGANIZER;CN="Digital-Botschafterinnen und Digital-Botschafter Jockgrim":MAILTO:di.bo.ihns.jockgrim@t-online.de
END:VEVENT
BEGIN:VEVENT
DTSTART;TZID=Europe/Berlin:20260218T160000
DTEND;TZID=Europe/Berlin:20260218T180000
DTSTAMP:20260423T203402
CREATED:20260119T230117Z
LAST-MODIFIED:20260119T230117Z
UID:999-1771430400-1771437600@dibojockgrim.de
SUMMARY:Offene Sprechstunde 18.02.26
DESCRIPTION:Wir\, die Digital-Botschafterinnen und -Botschafter Jockgrim\, sind bereits seit über 2 Jahren erfolgreich ehrenamtlich aktiv und helfen älteren Menschen rund um die VG Jockgrim im Umgang mit Smartphone\, Laptop & PC – gerade bei zunehmender Digitalisierung des Alltagslebens. Wir möchten Berührungsängste im Umgang mit der digitalen Welt abbauen und gleichzeitig für mögliche Risiken sensibilisieren. In unseren Sprechstunden haben Seniorinnen und Senioren die Möglichkeit\, gemeinsam Neues auszuprobieren\, zu üben & auch voneinander zu lernen.
URL:https://dibojockgrim.de/kalender/offene-sprechstunde-18-02-26/
LOCATION:VHS Jockgrim\, Untere Buchstraße 20\, Jockgrim\, Rheinland-Pfalz\, 76751
CATEGORIES:Offene Sprechstunde
ATTACH;FMTTYPE=image/webp:https://dibojockgrim.de/wp-content/uploads/2024/08/VHS_Jockgrim.webp
ORGANIZER;CN="Digital-Botschafterinnen und Digital-Botschafter Jockgrim":MAILTO:di.bo.ihns.jockgrim@t-online.de
END:VEVENT
END:VCALENDAR